BEGIN:VCALENDAR
VERSION:2.0
PRODID:-//Föreningen Minsveparen M 20 - ECPv6.0.4//NONSGML v1.0//EN
CALSCALE:GREGORIAN
METHOD:PUBLISH
X-ORIGINAL-URL:https://minsveparen.se
X-WR-CALDESC:Händelser för Föreningen Minsveparen M 20
REFRESH-INTERVAL;VALUE=DURATION:PT1H
X-Robots-Tag:noindex
X-PUBLISHED-TTL:PT1H
BEGIN:VTIMEZONE
TZID:Europe/Stockholm
BEGIN:DAYLIGHT
TZOFFSETFROM:+0100
TZOFFSETTO:+0200
TZNAME:CEST
DTSTART:20260329T010000
END:DAYLIGHT
BEGIN:STANDARD
TZOFFSETFROM:+0200
TZOFFSETTO:+0100
TZNAME:CET
DTSTART:20261025T010000
END:STANDARD
END:VTIMEZONE
BEGIN:VEVENT
DTSTART;VALUE=DATE:20260528
DTEND;VALUE=DATE:20260602
DTSTAMP:20260421T145016
CREATED:20260213T113028Z
LAST-MODIFIED:20260213T113028Z
UID:6137-1779926400-1780358399@minsveparen.se
SUMMARY:Medlemsresa i Mälaren
DESCRIPTION:Dela detta:E-post
URL:https://minsveparen.se/event/medlemsresa-i-malaren/
END:VEVENT
BEGIN:VEVENT
DTSTART;VALUE=DATE:20260606
DTEND;VALUE=DATE:20260607
DTSTAMP:20260421T145016
CREATED:20260319T092725Z
LAST-MODIFIED:20260319T093759Z
UID:6204-1780704000-1780790399@minsveparen.se
SUMMARY:Sveriges nationaldag firas på Museipiren. Öppet skepp.
DESCRIPTION:Dela detta:E-post
URL:https://minsveparen.se/event/sveriges-nationaldag-firas-pa-museipiren/
END:VEVENT
BEGIN:VEVENT
DTSTART;VALUE=DATE:20260616
DTEND;VALUE=DATE:20260617
DTSTAMP:20260421T145016
CREATED:20260319T093121Z
LAST-MODIFIED:20260319T093333Z
UID:6206-1781568000-1781654399@minsveparen.se
SUMMARY:Öppet skepp
DESCRIPTION:Dela detta:E-post
URL:https://minsveparen.se/event/oppet-skepp-22/
END:VEVENT
BEGIN:VEVENT
DTSTART;TZID=Europe/Stockholm:20260623T080000
DTEND;TZID=Europe/Stockholm:20260623T170000
DTSTAMP:20260421T145016
CREATED:20260319T093450Z
LAST-MODIFIED:20260319T093450Z
UID:6208-1782201600-1782234000@minsveparen.se
SUMMARY:Öppet skepp
DESCRIPTION:Dela detta:E-post
URL:https://minsveparen.se/event/oppet-skepp-23/
END:VEVENT
BEGIN:VEVENT
DTSTART;VALUE=DATE:20260628
DTEND;VALUE=DATE:20260629
DTSTAMP:20260421T145016
CREATED:20260213T113106Z
LAST-MODIFIED:20260213T113106Z
UID:6139-1782604800-1782691199@minsveparen.se
SUMMARY:Vaxholms kastell\, dagstur
DESCRIPTION:Dela detta:E-post
URL:https://minsveparen.se/event/vaxholms-kastell-dagstur/
END:VEVENT
BEGIN:VEVENT
DTSTART;VALUE=DATE:20260630
DTEND;VALUE=DATE:20260701
DTSTAMP:20260421T145016
CREATED:20260319T093919Z
LAST-MODIFIED:20260319T093919Z
UID:6213-1782777600-1782863999@minsveparen.se
SUMMARY:Öppet skepp
DESCRIPTION:Dela detta:E-post
URL:https://minsveparen.se/event/oppet-skepp-24/
END:VEVENT
END:VCALENDAR