BEGIN:VCALENDAR
VERSION:2.0
PRODID:-//Föreningen Minsveparen M 20 - ECPv6.0.4//NONSGML v1.0//EN
CALSCALE:GREGORIAN
METHOD:PUBLISH
X-WR-CALNAME:Föreningen Minsveparen M 20
X-ORIGINAL-URL:https://minsveparen.se
X-WR-CALDESC:Händelser för Föreningen Minsveparen M 20
REFRESH-INTERVAL;VALUE=DURATION:PT1H
X-Robots-Tag:noindex
X-PUBLISHED-TTL:PT1H
BEGIN:VTIMEZONE
TZID:Europe/Stockholm
BEGIN:DAYLIGHT
TZOFFSETFROM:+0100
TZOFFSETTO:+0200
TZNAME:CEST
DTSTART:20260329T010000
END:DAYLIGHT
BEGIN:STANDARD
TZOFFSETFROM:+0200
TZOFFSETTO:+0100
TZNAME:CET
DTSTART:20261025T010000
END:STANDARD
END:VTIMEZONE
BEGIN:VEVENT
DTSTART;VALUE=DATE:20260904
DTEND;VALUE=DATE:20260907
DTSTAMP:20260421T211323
CREATED:20260213T113337Z
LAST-MODIFIED:20260213T113337Z
UID:6145-1788480000-1788739199@minsveparen.se
SUMMARY:Militärhistorisk resa 2026
DESCRIPTION:Dela detta:E-post
URL:https://minsveparen.se/event/militarhistorisk-resa-2026/
END:VEVENT
BEGIN:VEVENT
DTSTART;TZID=Europe/Stockholm:20261111T170000
DTEND;TZID=Europe/Stockholm:20261111T210000
DTSTAMP:20260421T211323
CREATED:20260213T113502Z
LAST-MODIFIED:20260213T113502Z
UID:6147-1794416400-1794430800@minsveparen.se
SUMMARY:Höstmöte 2026
DESCRIPTION:Dela detta:E-post
URL:https://minsveparen.se/event/hostmote-2026/
END:VEVENT
BEGIN:VEVENT
DTSTART;VALUE=DATE:20261210
DTEND;VALUE=DATE:20261211
DTSTAMP:20260421T211323
CREATED:20260213T113852Z
LAST-MODIFIED:20260213T113852Z
UID:6153-1796860800-1796947199@minsveparen.se
SUMMARY:Arbetsdag
DESCRIPTION:Dela detta:E-post
URL:https://minsveparen.se/event/arbetsdag-17/
END:VEVENT
END:VCALENDAR