BEGIN:VCALENDAR
VERSION:2.0
PRODID:-//Föreningen Minsveparen M 20 - ECPv6.0.4//NONSGML v1.0//EN
CALSCALE:GREGORIAN
METHOD:PUBLISH
X-WR-CALNAME:Föreningen Minsveparen M 20
X-ORIGINAL-URL:https://minsveparen.se
X-WR-CALDESC:Händelser för Föreningen Minsveparen M 20
REFRESH-INTERVAL;VALUE=DURATION:PT1H
X-Robots-Tag:noindex
X-PUBLISHED-TTL:PT1H
BEGIN:VTIMEZONE
TZID:Europe/Stockholm
BEGIN:DAYLIGHT
TZOFFSETFROM:+0100
TZOFFSETTO:+0200
TZNAME:CEST
DTSTART:20260329T010000
END:DAYLIGHT
BEGIN:STANDARD
TZOFFSETFROM:+0200
TZOFFSETTO:+0100
TZNAME:CET
DTSTART:20261025T010000
END:STANDARD
END:VTIMEZONE
BEGIN:VEVENT
DTSTART;VALUE=DATE:20260418
DTEND;VALUE=DATE:20260419
DTSTAMP:20260421T133054
CREATED:20260213T112758Z
LAST-MODIFIED:20260213T112758Z
UID:6131-1776470400-1776556799@minsveparen.se
SUMMARY:VO/FC-kurs för medlemmar
DESCRIPTION:Dela detta:E-post
URL:https://minsveparen.se/event/vo-fc-kurs-for-medlemmar/
END:VEVENT
BEGIN:VEVENT
DTSTART;VALUE=DATE:20260418
DTEND;VALUE=DATE:20260419
DTSTAMP:20260421T133054
CREATED:20260213T112834Z
LAST-MODIFIED:20260319T094648Z
UID:6133-1776470400-1776556799@minsveparen.se
SUMMARY:Stockholms kulturnatt 2026. Öppet skepp
DESCRIPTION:Dela detta:E-post
URL:https://minsveparen.se/event/stockholms-kulturnatt-2026/
END:VEVENT
END:VCALENDAR